BEGIN:VCALENDAR
VERSION:2.0
PRODID:spatie/icalendar-generator
DESCRIPTION:Eventi da Formazione Tirocinio UNIMC
X-WR-CALDESC:Eventi da Formazione Tirocinio UNIMC
REFRESH-INTERVAL;VALUE=DURATION:PT1440M
X-PUBLISHED-TTL:PT1440M
BEGIN:VTIMEZONE
TZID:Europe/Rome
BEGIN:STANDARD
DTSTART:20231029T030000Z
TZOFFSETFROM:+0200
TZOFFSETTO:+0100
END:STANDARD
BEGIN:DAYLIGHT
DTSTART:20240331T020000Z
TZOFFSETFROM:+0100
TZOFFSETTO:+0200
END:DAYLIGHT
BEGIN:STANDARD
DTSTART:20241027T030000Z
TZOFFSETFROM:+0200
TZOFFSETTO:+0100
END:STANDARD
END:VTIMEZONE
BEGIN:VTIMEZONE
TZID:UTC
BEGIN:STANDARD
DTSTART:20250728T102035Z
TZOFFSETFROM:+0000
TZOFFSETTO:+0000
END:STANDARD
END:VTIMEZONE
BEGIN:VEVENT
UID:6-6
DTSTAMP:20260424T102035Z
SUMMARY:3° webinar: Autoregolazione e autovalutazione
LOCATION:
ORGANIZER;CN=Silvia Brazzoni:MAILTO:silviabrazzoni@gmail.com
DTSTART;TZID=Europe/Rome:20240515T160000
DTEND;TZID=Europe/Rome:20240515T190000
X-ALT-DESC;FMTTYPE=TEXT/HTML:
CATEGORIES:General
URL;VALUE=URI:http://formazionetirocinio.unimc.it/mc-events/3-webinar-autor
 egolazione-e-autovalutazione/
METHOD:PUBLISH
END:VEVENT
END:VCALENDAR